BEGIN:VCALENDAR
VERSION:2.0
PRODID:-//My Calendar//http://www.joedolson.com//v//EN
METHOD:PUBLISH
CALSCALE:GREGORIAN
X-WR-CALNAME:Centre Zen Barcelona
X-PUBLISHED-TTL:PT24H
REFRESH-INTERVAL;VALUE=DURATION:PT24H
X-WR-CALDESC:Events from Centre Zen Barcelona
BEGIN:VEVENT
UID:10801-361
LOCATION:
SUMMARY:ZAZEN
DTSTAMP:20240124T190000
ORGANIZER;CN=administrador:MAILTO:marc.homar.marin@gmail.com
DTSTART;TZID=Etc/GMT-2:20240124T190000
DTEND;TZID=Etc/GMT-2:20240124T201500
RRULE:FREQ=WEEKLY;UNTIL=20301211T000000Z
URL;VALUE=URI:https://zenbarcelona.org/my-calendar/zazen-2/
DESCRIPTION:
CATEGORIES:EVT_CAST, EVT_CAT
END:VEVENT
BEGIN:VEVENT
UID:6821-360
LOCATION:
SUMMARY:ZAZEN
DTSTAMP:20240111T071500
ORGANIZER;CN=administrador:MAILTO:marc.homar.marin@gmail.com
DTSTART;TZID=Etc/GMT-2:20240111T071500
DTEND;TZID=Etc/GMT-2:20240111T083000
RRULE:FREQ=WEEKLY;UNTIL=20301211T000000Z
URL;VALUE=URI:https://zenbarcelona.org/my-calendar/zazen/
DESCRIPTION:
CATEGORIES:EVT_CAST, EVT_CAT
END:VEVENT
BEGIN:VEVENT
UID:12560-389
LOCATION:
SUMMARY:ZAZEN
DTSTAMP:20240229T190000
ORGANIZER;CN=administrador:MAILTO:marc.homar.marin@gmail.com
DTSTART;TZID=Etc/GMT-2:20240229T190000
DTEND;TZID=Etc/GMT-2:20240229T201500
URL;VALUE=URI:https://zenbarcelona.org/my-calendar/zazen-10/
DESCRIPTION:
CATEGORIES:EVT_CAST, EVT_CAT
END:VEVENT
BEGIN:VEVENT
UID:11855-387
LOCATION:
SUMMARY:ZAZEN
DTSTAMP:20240301T071500
ORGANIZER;CN=administrador:MAILTO:marc.homar.marin@gmail.com
DTSTART;TZID=Etc/GMT-2:20240301T071500
DTEND;TZID=Etc/GMT-2:20240301T083000
RRULE:FREQ=WEEKLY;UNTIL=20301205T000000Z
URL;VALUE=URI:https://zenbarcelona.org/my-calendar/zazen-4/
DESCRIPTION:
CATEGORIES:EVT_CAST, EVT_CAT
END:VEVENT
BEGIN:VEVENT
UID:12208-347
LOCATION:
SUMMARY:ZAZEN
DTSTAMP:20240301T190000
ORGANIZER;CN=administrador:MAILTO:marc.homar.marin@gmail.com
DTSTART;TZID=Etc/GMT-2:20240301T190000
DTEND;TZID=Etc/GMT-2:20240301T201500
RRULE:FREQ=WEEKLY;UNTIL=20301205T000000Z
URL;VALUE=URI:https://zenbarcelona.org/my-calendar/zazen-25/
DESCRIPTION:
CATEGORIES:EVT_CAST, EVT_CAT
END:VEVENT
BEGIN:VEVENT
UID:10434-369
LOCATION:
SUMMARY:ZAZEN
DTSTAMP:20240113T083000
ORGANIZER;CN=administrador:MAILTO:marc.homar.marin@gmail.com
DTSTART;TZID=Etc/GMT-2:20240113T083000
DTEND;TZID=Etc/GMT-2:20240113T100000
RRULE:FREQ=WEEKLY;UNTIL=20301211T000000Z
URL;VALUE=URI:https://zenbarcelona.org/my-calendar/zazen-9/
DESCRIPTION:
CATEGORIES:EVT_CAST, EVT_CAT
END:VEVENT
BEGIN:VEVENT
UID:8629-364
LOCATION:
SUMMARY:ZAZEN
DTSTAMP:20240109T071500
ORGANIZER;CN=administrador:MAILTO:marc.homar.marin@gmail.com
DTSTART;TZID=Etc/GMT-2:20240109T071500
DTEND;TZID=Etc/GMT-2:20240109T083000
RRULE:FREQ=WEEKLY;UNTIL=20301211T000000Z
URL;VALUE=URI:https://zenbarcelona.org/my-calendar/zazen-6/
DESCRIPTION:
CATEGORIES:EVT_CAST, EVT_CAT
END:VEVENT
BEGIN:VEVENT
UID:7544-348
LOCATION:
SUMMARY:ZAZEN
DTSTAMP:20240109T190000
ORGANIZER;CN=administrador:MAILTO:marc.homar.marin@gmail.com
DTSTART;TZID=Etc/GMT-2:20240109T190000
DTEND;TZID=Etc/GMT-2:20240109T201500
RRULE:FREQ=WEEKLY;UNTIL=20301211T000000Z
URL;VALUE=URI:https://zenbarcelona.org/my-calendar/zazen-3-2/
DESCRIPTION:
CATEGORIES:EVT_CAST, EVT_CAT
END:VEVENT
BEGIN:VEVENT
UID:12561-389
LOCATION:
SUMMARY:ZAZEN
DTSTAMP:20240229T190000
ORGANIZER;CN=administrador:MAILTO:marc.homar.marin@gmail.com
DTSTART;TZID=Etc/GMT-2:20240229T190000
DTEND;TZID=Etc/GMT-2:20240229T201500
URL;VALUE=URI:https://zenbarcelona.org/my-calendar/zazen-10/
DESCRIPTION:
CATEGORIES:EVT_CAST, EVT_CAT
END:VEVENT
BEGIN:VEVENT
UID:12930-507
LOCATION:
SUMMARY:Introducció a la meditació zen
DTSTAMP:20260411T110000
ORGANIZER;CN=administrador:MAILTO:marc.homar.marin@gmail.com
DTSTART;TZID=Etc/GMT-2:20260411T110000
DTEND;TZID=Etc/GMT-2:20260411T133000
URL;VALUE=URI:https://zenbarcelona.org/my-calendar/introduccio-a-la-meditacio-zen-13/
DESCRIPTION:Una oportunitat per iniciar-te en la meditació zen
CATEGORIES:Activitat, Destacat_calendari, Destacat_inici, EVT_CAT
END:VEVENT
BEGIN:VEVENT
UID:12929-506
LOCATION:
SUMMARY:Introducción a la meditación zen
DTSTAMP:20260411T110000
ORGANIZER;CN=administrador:MAILTO:marc.homar.marin@gmail.com
DTSTART;TZID=Etc/GMT-2:20260411T110000
DTEND;TZID=Etc/GMT-2:20260411T133000
URL;VALUE=URI:https://zenbarcelona.org/my-calendar/introduccion-a-la-meditacion-zen-13/
DESCRIPTION:Una oportunidad para iniciarte en la meditación zen
CATEGORIES:Activitat, Destacat_calendari, Destacat_inici, EVT_CAST
END:VEVENT
BEGIN:VEVENT
UID:12562-389
LOCATION:
SUMMARY:ZAZEN
DTSTAMP:20240229T190000
ORGANIZER;CN=administrador:MAILTO:marc.homar.marin@gmail.com
DTSTART;TZID=Etc/GMT-2:20240229T190000
DTEND;TZID=Etc/GMT-2:20240229T201500
URL;VALUE=URI:https://zenbarcelona.org/my-calendar/zazen-10/
DESCRIPTION:
CATEGORIES:EVT_CAST, EVT_CAT
END:VEVENT
BEGIN:VEVENT
UID:12937-514
LOCATION:
SUMMARY:Retir al monestir de Les Avellanes
DTSTAMP:20260418
ORGANIZER;CN=administrador:MAILTO:marc.homar.marin@gmail.com
DTSTART;TZID=Etc/GMT-2:20260418
DTEND;TZID=Etc/GMT-2:20260419
URL;VALUE=URI:https://zenbarcelona.org/my-calendar/retir-al-monestir-de-les-avellanes-2/
DESCRIPTION:Dos dies per a la pràctica de la meditació en un entorn de silenci i naturalesa
CATEGORIES:Activitat, Destacat_calendari, Destacat_inici, EVT_CAT
X-FUNAMBOL-ALLDAY: 1
X-MICROSOFT-CDO-ALLDAYEVENT: TRUE
END:VEVENT
BEGIN:VEVENT
UID:12938-515
LOCATION:
SUMMARY:Retiro Monasterio de Les Avellanes
DTSTAMP:20260418
ORGANIZER;CN=administrador:MAILTO:marc.homar.marin@gmail.com
DTSTART;TZID=Etc/GMT-2:20260418
DTEND;TZID=Etc/GMT-2:20260419
URL;VALUE=URI:https://zenbarcelona.org/my-calendar/retiro-monasterio-de-les-avellanes/
DESCRIPTION:Dos días de meditación en un entorno de silencio y naturaleza
CATEGORIES:Activitat, Destacat_calendari, Destacat_inici, EVT_CAST
X-FUNAMBOL-ALLDAY: 1
X-MICROSOFT-CDO-ALLDAYEVENT: TRUE
END:VEVENT
BEGIN:VEVENT
UID:12563-389
LOCATION:
SUMMARY:ZAZEN
DTSTAMP:20240229T190000
ORGANIZER;CN=administrador:MAILTO:marc.homar.marin@gmail.com
DTSTART;TZID=Etc/GMT-2:20240229T190000
DTEND;TZID=Etc/GMT-2:20240229T201500
URL;VALUE=URI:https://zenbarcelona.org/my-calendar/zazen-10/
DESCRIPTION:
CATEGORIES:EVT_CAST, EVT_CAT
END:VEVENT
BEGIN:VEVENT
UID:12564-389
LOCATION:
SUMMARY:ZAZEN
DTSTAMP:20240229T190000
ORGANIZER;CN=administrador:MAILTO:marc.homar.marin@gmail.com
DTSTART;TZID=Etc/GMT-2:20240229T190000
DTEND;TZID=Etc/GMT-2:20240229T201500
URL;VALUE=URI:https://zenbarcelona.org/my-calendar/zazen-10/
DESCRIPTION:
CATEGORIES:EVT_CAST, EVT_CAT
END:VEVENT
END:VCALENDAR